BEGIN:VCALENDAR
VERSION:2.0
PRODID:-//IBF International - ECPv6.15.20//NONSGML v1.0//EN
CALSCALE:GREGORIAN
METHOD:PUBLISH
X-ORIGINAL-URL:https://ibf.international
X-WR-CALDESC:Events for IBF International
REFRESH-INTERVAL;VALUE=DURATION:PT1H
X-Robots-Tag:noindex
X-PUBLISHED-TTL:PT1H
BEGIN:VTIMEZONE
TZID:Australia/Brisbane
BEGIN:STANDARD
TZOFFSETFROM:+1000
TZOFFSETTO:+1000
TZNAME:AEST
DTSTART:20220101T000000
END:STANDARD
END:VTIMEZONE
BEGIN:VEVENT
DTSTART;TZID=Australia/Brisbane:20230512T180000
DTEND;TZID=Australia/Brisbane:20230512T200000
DTSTAMP:20260422T000205
CREATED:20230330T045324Z
LAST-MODIFIED:20230330T051327Z
UID:1079-1683914400-1683921600@ibf.international
SUMMARY:Exceptional Women in Sustainability Network
DESCRIPTION:This bi-montly networking gathers exceptional women in sustainability across the globe to make-decisions on the growth and connectivity of the eWisely network. It also gathers women in sustainability science\, policy and practice over +60 locations to take the lead in the organizing committee towards the design and delivery of the Women Sustainability Forum.
URL:https://ibf.international/forums/exceptional-women-in-sustainability-network/
CATEGORIES:Sustainability Network
ORGANIZER;CN="IBF International":MAILTO:connect@ibf.international
END:VEVENT
BEGIN:VEVENT
DTSTART;TZID=Australia/Brisbane:20230511T180000
DTEND;TZID=Australia/Brisbane:20230511T200000
DTSTAMP:20260422T000205
CREATED:20230330T044902Z
LAST-MODIFIED:20230424T055647Z
UID:1071-1683828000-1683835200@ibf.international
SUMMARY:IBF International Board for Better Futures
DESCRIPTION:This bi-monthly event is an opportunity to network with the collective of innovative futurists operating across +25 countries. Over these technical meetings we discuss and make decisions on how we make the world’s wisdom more accessible and trusted\, so that it aligns with the demands of an emerging\, global order\, ultimately forging a sustainable world for all.
URL:https://ibf.international/forums/ibf-international-board-for-sustainable-futures/
CATEGORIES:Sustainable Futures
ORGANIZER;CN="IBF International":MAILTO:connect@ibf.international
END:VEVENT
END:VCALENDAR