BEGIN:VCALENDAR
VERSION:2.0
PRODID:-//IBF International - ECPv6.15.20//NONSGML v1.0//EN
CALSCALE:GREGORIAN
METHOD:PUBLISH
X-WR-CALNAME:IBF International
X-ORIGINAL-URL:https://ibf.international
X-WR-CALDESC:Events for IBF International
REFRESH-INTERVAL;VALUE=DURATION:PT1H
X-Robots-Tag:noindex
X-PUBLISHED-TTL:PT1H
BEGIN:VTIMEZONE
TZID:Australia/Brisbane
BEGIN:STANDARD
TZOFFSETFROM:+1000
TZOFFSETTO:+1000
TZNAME:AEST
DTSTART:20220101T000000
END:STANDARD
END:VTIMEZONE
BEGIN:VEVENT
DTSTART;TZID=Australia/Brisbane:20240506T180000
DTEND;TZID=Australia/Brisbane:20240506T200000
DTSTAMP:20260421T205636
CREATED:20230330T045654Z
LAST-MODIFIED:20240604T111314Z
UID:1086-1715018400-1715025600@ibf.international
SUMMARY:Exceptional Women in Sustainability Network
DESCRIPTION:This bi-montly networking gathers exceptional women in sustainability across the globe to make-decisions on the growth and connectivity of the eWisely network. It also gathers women in sustainability science\, policy and practice over +60 locations to take the lead in the organizing committee towards the design and delivery of the Women Sustainability Forum.
URL:https://ibf.international/forums/exceptional-women-in-sustainability-network-4/
CATEGORIES:Sustainability Network
ORGANIZER;CN="IBF International":MAILTO:connect@ibf.international
END:VEVENT
BEGIN:VEVENT
DTSTART;TZID=Australia/Brisbane:20231114T180000
DTEND;TZID=Australia/Brisbane:20231114T200000
DTSTAMP:20260421T205636
CREATED:20230330T045212Z
LAST-MODIFIED:20230424T055439Z
UID:1077-1699984800-1699992000@ibf.international
SUMMARY:IBF International Board for Better Futures
DESCRIPTION:This bi-monthly event is an opportunity to network with the collective of innovative futurists operating across +25 countries. Over these technical meetings we discuss and make decisions on how we make the world’s wisdom more accessible and trusted\, so that it aligns with the demands of an emerging\, global order\, ultimately forging a sustainable world for all.
URL:https://ibf.international/forums/ibf-international-board-for-sustainable-futures-4/
CATEGORIES:Sustainable Futures
ORGANIZER;CN="IBF International":MAILTO:connect@ibf.international
END:VEVENT
BEGIN:VEVENT
DTSTART;TZID=Australia/Brisbane:20231019T030000
DTEND;TZID=Australia/Brisbane:20231019T070000
DTSTAMP:20260421T205636
CREATED:20230330T050033Z
LAST-MODIFIED:20230424T055813Z
UID:1092-1697684400-1697698800@ibf.international
SUMMARY:International Forum for Better Futures
DESCRIPTION:The emerging global order is reshaping our futures and challenging the world’s outdated economic\, social\, and environmental systems. The International Sustainable Futures Forum is a global platform to rethink the future we want and establish the networks needed to forge a sustainable world for all. Delivered online\, this international event cuts across various areas of sustainable futures and connections with the role of business\, government and international organizations in sustainable development\, climate change and sustainability broadly.
URL:https://ibf.international/forums/international-sustainable-futures-forum/
CATEGORIES:Sustainable Futures
ORGANIZER;CN="IBF International":MAILTO:connect@ibf.international
END:VEVENT
BEGIN:VEVENT
DTSTART;TZID=Australia/Brisbane:20230913T180000
DTEND;TZID=Australia/Brisbane:20230913T200000
DTSTAMP:20260421T205636
CREATED:20230330T045528Z
LAST-MODIFIED:20230330T051211Z
UID:1084-1694628000-1694635200@ibf.international
SUMMARY:Exceptional Women in Sustainability Network
DESCRIPTION:This bi-montly networking gathers exceptional women in sustainability across the globe to make-decisions on the growth and connectivity of the eWisely network. It also gathers women in sustainability science\, policy and practice over +60 locations to take the lead in the organizing committee towards the design and delivery of the Women Sustainability Forum.
URL:https://ibf.international/forums/exceptional-women-in-sustainability-network-2/
CATEGORIES:Sustainability Network
ORGANIZER;CN="IBF International":MAILTO:connect@ibf.international
END:VEVENT
BEGIN:VEVENT
DTSTART;TZID=Australia/Brisbane:20230911T180000
DTEND;TZID=Australia/Brisbane:20230911T200000
DTSTAMP:20260421T205636
CREATED:20230330T045104Z
LAST-MODIFIED:20230424T055829Z
UID:1075-1694455200-1694462400@ibf.international
SUMMARY:IBF International Board for Better Futures
DESCRIPTION:This bi-monthly event is an opportunity to network with the collective of innovative futurists operating across +25 countries. Over these technical meetings we discuss and make decisions on how we make the world’s wisdom more accessible and trusted\, so that it aligns with the demands of an emerging\, global order\, ultimately forging a sustainable world for all.
URL:https://ibf.international/forums/ibf-international-board-for-sustainable-futures-3/
CATEGORIES:Sustainable Futures
ORGANIZER;CN="IBF International":MAILTO:connect@ibf.international
END:VEVENT
BEGIN:VEVENT
DTSTART;TZID=Australia/Brisbane:20230712T180000
DTEND;TZID=Australia/Brisbane:20230712T200000
DTSTAMP:20260421T205636
CREATED:20230330T045417Z
LAST-MODIFIED:20230330T051234Z
UID:1081-1689184800-1689192000@ibf.international
SUMMARY:Exceptional Women in Sustainability Network
DESCRIPTION:This bi-montly networking gathers exceptional women in sustainability across the globe to make-decisions on the growth and connectivity of the eWisely network. It also gathers women in sustainability science\, policy and practice over +60 locations to take the lead in the organizing committee towards the design and delivery of the Women Sustainability Forum.
URL:https://ibf.international/forums/exceptional-women-in-sustainability-network-3/
CATEGORIES:Sustainability Network
ORGANIZER;CN="IBF International":MAILTO:connect@ibf.international
END:VEVENT
BEGIN:VEVENT
DTSTART;TZID=Australia/Brisbane:20230711T180000
DTEND;TZID=Australia/Brisbane:20230711T200000
DTSTAMP:20260421T205636
CREATED:20230330T045014Z
LAST-MODIFIED:20230424T055852Z
UID:1073-1689098400-1689105600@ibf.international
SUMMARY:IBF International Board for Better Futures
DESCRIPTION:This bi-monthly event is an opportunity to network with the collective of innovative futurists operating across +25 countries. Over these technical meetings we discuss and make decisions on how we make the world’s wisdom more accessible and trusted\, so that it aligns with the demands of an emerging\, global order\, ultimately forging a sustainable world for all.
URL:https://ibf.international/forums/ibf-international-board-for-sustainable-futures-2/
CATEGORIES:Sustainable Futures
ORGANIZER;CN="IBF International":MAILTO:connect@ibf.international
END:VEVENT
BEGIN:VEVENT
DTSTART;TZID=Australia/Brisbane:20230615T180000
DTEND;TZID=Australia/Brisbane:20230615T220000
DTSTAMP:20260421T205636
CREATED:20230330T045924Z
LAST-MODIFIED:20230330T051258Z
UID:1090-1686852000-1686866400@ibf.international
SUMMARY:Women Sustainability Forum Latin America
DESCRIPTION:The Women Sustainability Forum is intended to discuss case studies that cut across various areas of sustainability science\, policy and practice. The way that women are represented or challenged within disruptive industries and challenging environments\, the linkages with the industry and socio-environmental sustainability issues\, attraction and retention of women in sustainability at the workplace\, inclusive sustainable business models\, women entrepreneurs and implications for their livelihoods\, for example\, are some of the topics the forum covers.
URL:https://ibf.international/forums/women-sustainability-forum-latin-america/
CATEGORIES:Sustainability Forum
ORGANIZER;CN="IBF International":MAILTO:connect@ibf.international
END:VEVENT
BEGIN:VEVENT
DTSTART;TZID=Australia/Brisbane:20230512T180000
DTEND;TZID=Australia/Brisbane:20230512T200000
DTSTAMP:20260421T205636
CREATED:20230330T045324Z
LAST-MODIFIED:20230330T051327Z
UID:1079-1683914400-1683921600@ibf.international
SUMMARY:Exceptional Women in Sustainability Network
DESCRIPTION:This bi-montly networking gathers exceptional women in sustainability across the globe to make-decisions on the growth and connectivity of the eWisely network. It also gathers women in sustainability science\, policy and practice over +60 locations to take the lead in the organizing committee towards the design and delivery of the Women Sustainability Forum.
URL:https://ibf.international/forums/exceptional-women-in-sustainability-network/
CATEGORIES:Sustainability Network
ORGANIZER;CN="IBF International":MAILTO:connect@ibf.international
END:VEVENT
BEGIN:VEVENT
DTSTART;TZID=Australia/Brisbane:20230511T180000
DTEND;TZID=Australia/Brisbane:20230511T200000
DTSTAMP:20260421T205636
CREATED:20230330T044902Z
LAST-MODIFIED:20230424T055647Z
UID:1071-1683828000-1683835200@ibf.international
SUMMARY:IBF International Board for Better Futures
DESCRIPTION:This bi-monthly event is an opportunity to network with the collective of innovative futurists operating across +25 countries. Over these technical meetings we discuss and make decisions on how we make the world’s wisdom more accessible and trusted\, so that it aligns with the demands of an emerging\, global order\, ultimately forging a sustainable world for all.
URL:https://ibf.international/forums/ibf-international-board-for-sustainable-futures/
CATEGORIES:Sustainable Futures
ORGANIZER;CN="IBF International":MAILTO:connect@ibf.international
END:VEVENT
END:VCALENDAR